BEGIN:VCALENDAR
VERSION:2.0
PRODID:-//Comox Valley International Student Program - ECPv6.15.20//NONSGML v1.0//EN
CALSCALE:GREGORIAN
METHOD:PUBLISH
X-WR-CALNAME:Comox Valley International Student Program
X-ORIGINAL-URL:https://studyinbritishcolumbia.com
X-WR-CALDESC:Events for Comox Valley International Student Program
REFRESH-INTERVAL;VALUE=DURATION:PT1H
X-Robots-Tag:noindex
X-PUBLISHED-TTL:PT1H
BEGIN:VTIMEZONE
TZID:America/Vancouver
BEGIN:DAYLIGHT
TZOFFSETFROM:-0800
TZOFFSETTO:-0700
TZNAME:PDT
DTSTART:20140309T100000
END:DAYLIGHT
BEGIN:STANDARD
TZOFFSETFROM:-0700
TZOFFSETTO:-0800
TZNAME:PST
DTSTART:20141102T090000
END:STANDARD
BEGIN:DAYLIGHT
TZOFFSETFROM:-0800
TZOFFSETTO:-0700
TZNAME:PDT
DTSTART:20150308T100000
END:DAYLIGHT
BEGIN:STANDARD
TZOFFSETFROM:-0700
TZOFFSETTO:-0800
TZNAME:PST
DTSTART:20151101T090000
END:STANDARD
BEGIN:DAYLIGHT
TZOFFSETFROM:-0800
TZOFFSETTO:-0700
TZNAME:PDT
DTSTART:20160313T100000
END:DAYLIGHT
BEGIN:STANDARD
TZOFFSETFROM:-0700
TZOFFSETTO:-0800
TZNAME:PST
DTSTART:20161106T090000
END:STANDARD
END:VTIMEZONE
BEGIN:VEVENT
DTSTART;TZID=America/Vancouver:20151124T180000
DTEND;TZID=America/Vancouver:20151124T200000
DTSTAMP:20260420T140254
CREATED:20151022T221303Z
LAST-MODIFIED:20151022T221412Z
UID:4340-1448388000-1448395200@studyinbritishcolumbia.com
SUMMARY:Recreation & Intramural Games Night
DESCRIPTION:Lake Trail Middle School will be transformed into a recreation and intramural games centre. Staff will be on hand to organize basketball\, floor hockey\, indoor soccer and many more fun sports games. \nPrizes will be awarded!  Open to all Comox Valley International Student Program students and guests. \nPlease contact Suella Price\, Activities Coordinator\, at suella.price@sd71.bc.ca for more details.
URL:https://studyinbritishcolumbia.com/event/recreation-night-2/
END:VEVENT
END:VCALENDAR