BEGIN:VCALENDAR
VERSION:2.0
PRODID:-//Comox Valley International Student Program - ECPv6.15.20//NONSGML v1.0//EN
CALSCALE:GREGORIAN
METHOD:PUBLISH
X-WR-CALNAME:Comox Valley International Student Program
X-ORIGINAL-URL:https://studyinbritishcolumbia.com
X-WR-CALDESC:Events for Comox Valley International Student Program
REFRESH-INTERVAL;VALUE=DURATION:PT1H
X-Robots-Tag:noindex
X-PUBLISHED-TTL:PT1H
BEGIN:VTIMEZONE
TZID:America/Vancouver
BEGIN:DAYLIGHT
TZOFFSETFROM:-0800
TZOFFSETTO:-0700
TZNAME:PDT
DTSTART:20150308T100000
END:DAYLIGHT
BEGIN:STANDARD
TZOFFSETFROM:-0700
TZOFFSETTO:-0800
TZNAME:PST
DTSTART:20151101T090000
END:STANDARD
BEGIN:DAYLIGHT
TZOFFSETFROM:-0800
TZOFFSETTO:-0700
TZNAME:PDT
DTSTART:20160313T100000
END:DAYLIGHT
BEGIN:STANDARD
TZOFFSETFROM:-0700
TZOFFSETTO:-0800
TZNAME:PST
DTSTART:20161106T090000
END:STANDARD
BEGIN:DAYLIGHT
TZOFFSETFROM:-0800
TZOFFSETTO:-0700
TZNAME:PDT
DTSTART:20170312T100000
END:DAYLIGHT
BEGIN:STANDARD
TZOFFSETFROM:-0700
TZOFFSETTO:-0800
TZNAME:PST
DTSTART:20171105T090000
END:STANDARD
END:VTIMEZONE
BEGIN:VEVENT
DTSTART;TZID=America/Vancouver:20160210T183000
DTEND;TZID=America/Vancouver:20160210T210000
DTSTAMP:20260419T200933
CREATED:20160107T203040Z
LAST-MODIFIED:20160120T004653Z
UID:4487-1455129000-1455138000@studyinbritishcolumbia.com
SUMMARY:Valentine's Day Dance
DESCRIPTION:Valentine’s Day Dance!!  \n  \nComox Valley International Student Program Invites you to our Valentines Dance. \n  \nWednesday\, February 10th\, 2016 \n6:30pm – 9:00pm \nLake Trail School \n805 Willemar Ave \nCourtenay\, BC \n  \nDOOR PRIZES!! CONCESSION!! FUN!! \n  \nPlease RSVP and sign up your guests at your school by February 5th at your school with: \n  \nG.P. Vanier – Ms. Oliphant \nHighland – Ms. MacLeod or Mr. Spruit \nLake Trail – Ms. Beaulieu or Suella @ ISP office \nMark Isfeld – Ms. Mulrooney \n  \nNo Cost and Maximum of 4 Guests. \nGuests will not be permitted entrance into the dance unless they are on the List. \n  \n**Please use the entrance door by the gym to get into the dance – after you sign in you must check in your coats\, bags\, etc. as they will not be allowed to be brought into the gym** \n  \nHost Families can drop off their students on Lake Trail Road by the gym entrance. \n  \nALSO: If you would like to request songs please email me as soon as possible so that we can ensure that you get the music you want!! \n\n \n 
URL:https://studyinbritishcolumbia.com/event/valentines-day-dance/
LOCATION:Lake Trail Middle School\, 805 Willemar Avenue\, Courtenay\, BC\, V9N3L7\, Canada
ATTACH;FMTTYPE=image/jpeg:https://studyinbritishcolumbia.com/wp-content/uploads/2015/10/IMG_0836.jpg
END:VEVENT
END:VCALENDAR