BEGIN:VCALENDAR
VERSION:2.0
PRODID:-//Comox Valley International Student Program - ECPv6.15.20//NONSGML v1.0//EN
CALSCALE:GREGORIAN
METHOD:PUBLISH
X-WR-CALNAME:Comox Valley International Student Program
X-ORIGINAL-URL:https://studyinbritishcolumbia.com
X-WR-CALDESC:Events for Comox Valley International Student Program
REFRESH-INTERVAL;VALUE=DURATION:PT1H
X-Robots-Tag:noindex
X-PUBLISHED-TTL:PT1H
BEGIN:VTIMEZONE
TZID:America/Vancouver
BEGIN:DAYLIGHT
TZOFFSETFROM:-0800
TZOFFSETTO:-0700
TZNAME:PDT
DTSTART:20150308T100000
END:DAYLIGHT
BEGIN:STANDARD
TZOFFSETFROM:-0700
TZOFFSETTO:-0800
TZNAME:PST
DTSTART:20151101T090000
END:STANDARD
BEGIN:DAYLIGHT
TZOFFSETFROM:-0800
TZOFFSETTO:-0700
TZNAME:PDT
DTSTART:20160313T100000
END:DAYLIGHT
BEGIN:STANDARD
TZOFFSETFROM:-0700
TZOFFSETTO:-0800
TZNAME:PST
DTSTART:20161106T090000
END:STANDARD
BEGIN:DAYLIGHT
TZOFFSETFROM:-0800
TZOFFSETTO:-0700
TZNAME:PDT
DTSTART:20170312T100000
END:DAYLIGHT
BEGIN:STANDARD
TZOFFSETFROM:-0700
TZOFFSETTO:-0800
TZNAME:PST
DTSTART:20171105T090000
END:STANDARD
END:VTIMEZONE
BEGIN:VEVENT
DTSTART;TZID=America/Vancouver:20160506T100000
DTEND;TZID=America/Vancouver:20160506T143000
DTSTAMP:20260419T230040
CREATED:20160215T203352Z
LAST-MODIFIED:20160421T152321Z
UID:4832-1462528800-1462545000@studyinbritishcolumbia.com
SUMMARY:Deep Bay Marine Field Station Field Trip
DESCRIPTION:Deep Bay Marine Station – Friday May 6th\, 2016\nThe Comox Valley International Student Program will be going on a field trip to Deep Bay Marine Station. You can check out their website: Deep Bay Marine Station\, we will do some Exploring!! We will have a Station Tour with hands on with Sea life\, lunch provided\, Intertidal Exploration on the Beach. \nWe will be leaving Courtenay from Ricki’s Restaurant Parking Lot at 10:00 am and will be returning to the same location at 2:30 pm. \nCOST: $15.00 – please pay and register with your ISP Teacher at school on starting on Monday\, April 18th. You can also pay at the ISP Office at Lake Trail Middle School. You can also pay by credit card\, by completing the credit card form and returning it to suella.price@sd71.bc.ca. \nAlso please note: Please fill out the Deep Bay Marine Station Medical Information Form and email to me or give to your ISP Teacher at School. These will need to be sent in by Monday\, April 25th. \nWe will also be looking for Two more additional Chaperones to Join us for this trip. Homestay\, if you are interested please let me know. \nI look forward to our Trip! It should be a lot of fun!
URL:https://studyinbritishcolumbia.com/event/deep-bay-marine-field-station-field-trip/
LOCATION:Deep Bay Marine Field Station\, 370 Crome Point Road\, Bowser\, British Columbia\, V0R 1G0\, Canada
END:VEVENT
END:VCALENDAR