BEGIN:VCALENDAR
VERSION:2.0
PRODID:-//Comox Valley International Student Program - ECPv6.15.20//NONSGML v1.0//EN
CALSCALE:GREGORIAN
METHOD:PUBLISH
X-WR-CALNAME:Comox Valley International Student Program
X-ORIGINAL-URL:https://studyinbritishcolumbia.com
X-WR-CALDESC:Events for Comox Valley International Student Program
REFRESH-INTERVAL;VALUE=DURATION:PT1H
X-Robots-Tag:noindex
X-PUBLISHED-TTL:PT1H
BEGIN:VTIMEZONE
TZID:America/Vancouver
BEGIN:DAYLIGHT
TZOFFSETFROM:-0800
TZOFFSETTO:-0700
TZNAME:PDT
DTSTART:20150308T100000
END:DAYLIGHT
BEGIN:STANDARD
TZOFFSETFROM:-0700
TZOFFSETTO:-0800
TZNAME:PST
DTSTART:20151101T090000
END:STANDARD
BEGIN:DAYLIGHT
TZOFFSETFROM:-0800
TZOFFSETTO:-0700
TZNAME:PDT
DTSTART:20160313T100000
END:DAYLIGHT
BEGIN:STANDARD
TZOFFSETFROM:-0700
TZOFFSETTO:-0800
TZNAME:PST
DTSTART:20161106T090000
END:STANDARD
BEGIN:DAYLIGHT
TZOFFSETFROM:-0800
TZOFFSETTO:-0700
TZNAME:PDT
DTSTART:20170312T100000
END:DAYLIGHT
BEGIN:STANDARD
TZOFFSETFROM:-0700
TZOFFSETTO:-0800
TZNAME:PST
DTSTART:20171105T090000
END:STANDARD
END:VTIMEZONE
BEGIN:VEVENT
DTSTART;TZID=America/Vancouver:20160913T083000
DTEND;TZID=America/Vancouver:20160914T143000
DTSTAMP:20260420T202715
CREATED:20160816T213837Z
LAST-MODIFIED:20160816T214936Z
UID:5528-1473755400-1473863400@studyinbritishcolumbia.com
SUMMARY:Hornby Island Camping Grade 11-12
DESCRIPTION:Hornby Island Camping Grade 11-12 Students\nNew International Students in grade 11-12 will attending Tribune Bay Outdoor Education Centre on Hornby Island. Homestay parents are asked to drop off students at 8:30am in the parking lot behind the Ricky’s Restaurant in Courtenay. Do not be late! The bus will not wait. \nWhat to Bring\nPlease do not use garbage bags to pack your items. \n\nBag lunch for the first day – eat a good breakfast as well!\nSleeping bag & pillow\nSMALL bag for clothes and toiletries – remember it is only one night and we have limited cargo space!\n\n(toothbrush\, toothpaste\, towel\, face cloth\, comb/brush\, soap (in a container)\n\n\n\n\nPajamas\nOne warm weather outfit – t-shirt\, shorts\, sandals\nOne cool weather outfit – long sleeve shirt\, fleece/sweater\, long pants\, jacket\, socks\, shoes/runners\nSwim & sun gear – bathing suit\, towel\, sunscreen\, hat\nFlashlight\nCamera\n\nFor further details please email exchanges@sd71.bc.ca
URL:https://studyinbritishcolumbia.com/event/hornby-island-camping-2/
LOCATION:Hornby Island\, BC\, Canada
ATTACH;FMTTYPE=image/jpeg:https://studyinbritishcolumbia.com/wp-content/uploads/2016/08/IMG_0422.jpg
END:VEVENT
END:VCALENDAR