BEGIN:VCALENDAR
VERSION:2.0
PRODID:-//Comox Valley International Student Program - ECPv6.15.20//NONSGML v1.0//EN
CALSCALE:GREGORIAN
METHOD:PUBLISH
X-ORIGINAL-URL:https://studyinbritishcolumbia.com
X-WR-CALDESC:Events for Comox Valley International Student Program
REFRESH-INTERVAL;VALUE=DURATION:PT1H
X-Robots-Tag:noindex
X-PUBLISHED-TTL:PT1H
BEGIN:VTIMEZONE
TZID:America/Merida
BEGIN:DAYLIGHT
TZOFFSETFROM:-0600
TZOFFSETTO:-0500
TZNAME:CDT
DTSTART:20160403T080000
END:DAYLIGHT
BEGIN:STANDARD
TZOFFSETFROM:-0500
TZOFFSETTO:-0600
TZNAME:CST
DTSTART:20161030T070000
END:STANDARD
BEGIN:DAYLIGHT
TZOFFSETFROM:-0600
TZOFFSETTO:-0500
TZNAME:CDT
DTSTART:20170402T080000
END:DAYLIGHT
BEGIN:STANDARD
TZOFFSETFROM:-0500
TZOFFSETTO:-0600
TZNAME:CST
DTSTART:20171029T070000
END:STANDARD
BEGIN:DAYLIGHT
TZOFFSETFROM:-0600
TZOFFSETTO:-0500
TZNAME:CDT
DTSTART:20180401T080000
END:DAYLIGHT
BEGIN:STANDARD
TZOFFSETFROM:-0500
TZOFFSETTO:-0600
TZNAME:CST
DTSTART:20181028T070000
END:STANDARD
END:VTIMEZONE
BEGIN:VEVENT
DTSTART;TZID=America/Merida:20170215T183000
DTEND;TZID=America/Merida:20170215T213000
DTSTAMP:20260421T040304
CREATED:20170119T193846Z
LAST-MODIFIED:20170119T193846Z
UID:5842-1487183400-1487194200@studyinbritishcolumbia.com
SUMMARY:How to Study High School in Canada
DESCRIPTION:How to Study High School in Canada\n 
URL:https://studyinbritishcolumbia.com/event/study-high-school-canada/
LOCATION:Hyatt Regency Merida\, Ave. Colon No. 344 esq Calle 60\, Centro\, Merida\, Yucatan\, 97000\, Mexico
END:VEVENT
END:VCALENDAR