BEGIN:VCALENDAR
VERSION:2.0
PRODID:-//Comox Valley International Student Program - ECPv6.15.20//NONSGML v1.0//EN
CALSCALE:GREGORIAN
METHOD:PUBLISH
X-ORIGINAL-URL:https://studyinbritishcolumbia.com
X-WR-CALDESC:Events for Comox Valley International Student Program
REFRESH-INTERVAL;VALUE=DURATION:PT1H
X-Robots-Tag:noindex
X-PUBLISHED-TTL:PT1H
BEGIN:VTIMEZONE
TZID:America/Vancouver
BEGIN:DAYLIGHT
TZOFFSETFROM:-0800
TZOFFSETTO:-0700
TZNAME:PDT
DTSTART:20140309T100000
END:DAYLIGHT
BEGIN:STANDARD
TZOFFSETFROM:-0700
TZOFFSETTO:-0800
TZNAME:PST
DTSTART:20141102T090000
END:STANDARD
BEGIN:DAYLIGHT
TZOFFSETFROM:-0800
TZOFFSETTO:-0700
TZNAME:PDT
DTSTART:20150308T100000
END:DAYLIGHT
BEGIN:STANDARD
TZOFFSETFROM:-0700
TZOFFSETTO:-0800
TZNAME:PST
DTSTART:20151101T090000
END:STANDARD
BEGIN:DAYLIGHT
TZOFFSETFROM:-0800
TZOFFSETTO:-0700
TZNAME:PDT
DTSTART:20160313T100000
END:DAYLIGHT
BEGIN:STANDARD
TZOFFSETFROM:-0700
TZOFFSETTO:-0800
TZNAME:PST
DTSTART:20161106T090000
END:STANDARD
END:VTIMEZONE
BEGIN:VEVENT
DTSTART;VALUE=DATE:20151202
DTEND;VALUE=DATE:20151203
DTSTAMP:20260420T152729
CREATED:20151008T161522Z
LAST-MODIFIED:20151008T161522Z
UID:4271-1449014400-1449100799@studyinbritishcolumbia.com
SUMMARY:PLC Day (early dismissal)
DESCRIPTION:
URL:https://studyinbritishcolumbia.com/event/plc-day-early-dismissal-3/
END:VEVENT
BEGIN:VEVENT
DTSTART;VALUE=DATE:20151209
DTEND;VALUE=DATE:20151210
DTSTAMP:20260420T152729
CREATED:20151005T222553Z
LAST-MODIFIED:20151005T222553Z
UID:4234-1449619200-1449705599@studyinbritishcolumbia.com
SUMMARY:Vancouver Trip & FlyOver Canada Experience at Canada Place
DESCRIPTION:
URL:https://studyinbritishcolumbia.com/event/vancouver-trip-flyover-canada-experience-at-canada-place/
END:VEVENT
BEGIN:VEVENT
DTSTART;VALUE=DATE:20151216
DTEND;VALUE=DATE:20151217
DTSTAMP:20260420T152729
CREATED:20151005T222638Z
LAST-MODIFIED:20151005T222638Z
UID:4235-1450224000-1450310399@studyinbritishcolumbia.com
SUMMARY:Mt. Washington Skiing / Snowboarding
DESCRIPTION:
URL:https://studyinbritishcolumbia.com/event/mt-washington-skiing-snowboarding/
END:VEVENT
BEGIN:VEVENT
DTSTART;VALUE=DATE:20151221
DTEND;VALUE=DATE:20151222
DTSTAMP:20260420T152729
CREATED:20151008T161605Z
LAST-MODIFIED:20151008T161605Z
UID:4272-1450656000-1450742399@studyinbritishcolumbia.com
SUMMARY:Winter Break begins
DESCRIPTION:
URL:https://studyinbritishcolumbia.com/event/winter-break-begins/
END:VEVENT
BEGIN:VEVENT
DTSTART;VALUE=DATE:20151225
DTEND;VALUE=DATE:20151226
DTSTAMP:20260420T152729
CREATED:20151008T161623Z
LAST-MODIFIED:20151008T161623Z
UID:4273-1451001600-1451087999@studyinbritishcolumbia.com
SUMMARY:Christmas Day
DESCRIPTION:
URL:https://studyinbritishcolumbia.com/event/christmas-day/
END:VEVENT
END:VCALENDAR