BEGIN:VCALENDAR
VERSION:2.0
PRODID:-//Comox Valley International Student Program - ECPv6.15.20//NONSGML v1.0//EN
CALSCALE:GREGORIAN
METHOD:PUBLISH
X-WR-CALNAME:Comox Valley International Student Program
X-ORIGINAL-URL:https://studyinbritishcolumbia.com
X-WR-CALDESC:Events for Comox Valley International Student Program
REFRESH-INTERVAL;VALUE=DURATION:PT1H
X-Robots-Tag:noindex
X-PUBLISHED-TTL:PT1H
BEGIN:VTIMEZONE
TZID:America/Vancouver
BEGIN:DAYLIGHT
TZOFFSETFROM:-0800
TZOFFSETTO:-0700
TZNAME:PDT
DTSTART:20150308T100000
END:DAYLIGHT
BEGIN:STANDARD
TZOFFSETFROM:-0700
TZOFFSETTO:-0800
TZNAME:PST
DTSTART:20151101T090000
END:STANDARD
BEGIN:DAYLIGHT
TZOFFSETFROM:-0800
TZOFFSETTO:-0700
TZNAME:PDT
DTSTART:20160313T100000
END:DAYLIGHT
BEGIN:STANDARD
TZOFFSETFROM:-0700
TZOFFSETTO:-0800
TZNAME:PST
DTSTART:20161106T090000
END:STANDARD
BEGIN:DAYLIGHT
TZOFFSETFROM:-0800
TZOFFSETTO:-0700
TZNAME:PDT
DTSTART:20170312T100000
END:DAYLIGHT
BEGIN:STANDARD
TZOFFSETFROM:-0700
TZOFFSETTO:-0800
TZNAME:PST
DTSTART:20171105T090000
END:STANDARD
END:VTIMEZONE
BEGIN:VEVENT
DTSTART;VALUE=DATE:20160101
DTEND;VALUE=DATE:20160102
DTSTAMP:20260420T164825
CREATED:20151008T161741Z
LAST-MODIFIED:20151008T161741Z
UID:4274-1451606400-1451692799@studyinbritishcolumbia.com
SUMMARY:New Year's Day
DESCRIPTION:
URL:https://studyinbritishcolumbia.com/event/new-years-day/
END:VEVENT
BEGIN:VEVENT
DTSTART;VALUE=DATE:20160104
DTEND;VALUE=DATE:20160105
DTSTAMP:20260420T164825
CREATED:20151008T161813Z
LAST-MODIFIED:20151008T161813Z
UID:4275-1451865600-1451951999@studyinbritishcolumbia.com
SUMMARY:First day back to school
DESCRIPTION:
URL:https://studyinbritishcolumbia.com/event/first-day-back-to-school/
END:VEVENT
BEGIN:VEVENT
DTSTART;VALUE=DATE:20160113
DTEND;VALUE=DATE:20160114
DTSTAMP:20260420T164825
CREATED:20151008T161845Z
LAST-MODIFIED:20151008T161845Z
UID:4276-1452643200-1452729599@studyinbritishcolumbia.com
SUMMARY:PLC Day (early dismissal)
DESCRIPTION:
URL:https://studyinbritishcolumbia.com/event/plc-day-early-dismissal-4/
END:VEVENT
BEGIN:VEVENT
DTSTART;VALUE=DATE:20160120
DTEND;VALUE=DATE:20160121
DTSTAMP:20260420T164825
CREATED:20160107T223004Z
LAST-MODIFIED:20160120T005731Z
UID:4489-1453248000-1453334399@studyinbritishcolumbia.com
SUMMARY:Mount Washington Snow Shoeing & Tube Park
DESCRIPTION:Ready for more Snow?  \nMt. Washington Wilderness Adventure and Snow Tubing at Ozone Park on Wednesday\, January 20th! \nWould you like to join us for a day of fun? We will take part in Snowshoe Wilderness Experience in the morning. We will learn what snowshoeing is all about and discover the beauty of the trails while learning more about the great outdoors. After that we will be provided a Bagged lunch at the Raven Lodge. In the afternoon we will be transported back to the Alpine Lodge to the Ozone Snow Tubing Park for an afternoon of fun until we leave the mountain at 3:30pm. \nYou can sign up starting on Monday\, January 11th and registration will be closed by Friday\, January 15 th afternoon. \nYou can Sign up with your ISP Teacher at your school or at our ISP Office at Lake Trail and pay them your Registration Cost for the trip and we will also need to know your shoe size & choices for lunch: \n\nSandwich: Turkey\, Ham & Cheese\, or Vegetarian\nFruit: Apple or Orange\nJuice: Apple or Orange\nDessert: Cookie\, Coffee Crisp chocolate bar or Crispy Crunch chocolate bar\n\nDETAILS: \n\nWe will leave Ricki\’s Parking lot at 7:30am \nWe will leave Mt. Washington at 3:30pm\nArrival at Ricki\’s Parking lot at 4:30pm\nCost $60 per person (includes: Snowshoeing\, lunch\, Tubing) Credit Card $62.40 (4%) Credit Card Form is attached to email.\n\nTo be fully prepared\, please read the following information carefully: \nClothing & Accessories: Appropriate clothing is a must! Below is a checklist of suggested Clothing for those not familiar with the alpine environment. You will be most comfortable if you dress in layers that can be removed or added as necessary. Please ensure that you are prepared for all types of weather. \nRecommended items for ALL Outdoor Activities: \n\n2 pairs of gloves or mitts – MANDATORY\nLong johns or warm tights\nLong sleeve turtleneck or shirt\nThick wool socks or thin synthetic socks\nWarm fleece or sweater\nSki pants or water repellent pants\nWinter Jacket\nWarm hat or Toque\nGoggles and/or Sunglasses\nWarm\, winter boots for All Outdoor Activities\n\nAlpine Safety \nSkiers and Snowboarders are required to know and abide by the rules of the Alpine Responsibility Code (ARC). Violations of this code may result in loss of lift privileges or injury. The ARC is posted in various locations on the mountain and is on the back of the lesson cards. We have attached below a Link of the ARC to allow you to familiarize before you arrive on the Mountain. \nhttps://www.mountwashington.ca/resort/mountain-safety.html#safety \nThe Ski Area Boundaries are marked with ropes and signs\, and also marked on the area maps. Minors (18 or younger) are not permitted to cross these boundaries. Mount Washington Alpine Resort accepts no responsibility for the safety of persons choosing to cross these boundaries. Rescue of out of bounds persons may or may not be possible and should costs arise from rescue operations persons involved may be charged.
URL:https://studyinbritishcolumbia.com/event/mount-washington-snow-shoeing-tube-park/
LOCATION:Mount Washington Alpine Resort\, Comox Valley\, British Columbia\, Canada
END:VEVENT
BEGIN:VEVENT
DTSTART;VALUE=DATE:20160125
DTEND;VALUE=DATE:20160130
DTSTAMP:20260420T164825
CREATED:20151008T161934Z
LAST-MODIFIED:20151008T161934Z
UID:4277-1453680000-1454111999@studyinbritishcolumbia.com
SUMMARY:Assessments
DESCRIPTION:
URL:https://studyinbritishcolumbia.com/event/assessments/
ATTACH;FMTTYPE=image/png:https://studyinbritishcolumbia.com/wp-content/uploads/2015/10/assessments.png
END:VEVENT
BEGIN:VEVENT
DTSTART;TZID=America/Vancouver:20160127T190000
DTEND;TZID=America/Vancouver:20160127T210000
DTSTAMP:20260420T164825
CREATED:20160114T205417Z
LAST-MODIFIED:20160123T001459Z
UID:4790-1453921200-1453928400@studyinbritishcolumbia.com
SUMMARY:Exchange Program Info Night
DESCRIPTION:Comox Valley Exchange Program Info Night\nJoin Comox Valley International Student Program representatives Rob Moore\, Senior Consultant\, and Suella Price\, Program Worker at the Comox Valley School District Board Office from 7:00pm-9:00pm on Wednesday\, January 27 to learn about studying abroad opportunities for Comox Valley School District Students. \nMadrid\, Spain \nPresentation Topics:\n\nWhat is a one for one exchange and its history?\nIs my son or daughter eligible for the exchange program?\nHow do we apply to the exchange program? – Apply Now\nWhat are the exchange country destinations and length of study options?\n\nThe presentation will be followed by question and answer and you may even have an opportunity to speak to parents and students who are already set to go study abroad for the 2016-17 school year. \nThe Comox Valley School District Exchange Program is accepting applications for the 2016-17 school year (semester or full year) until February 15\, 2016.  Students currently in grade 9-12 are eligible.  Yes\, grads interested in a “gap” year are eligible for an exchange. Contact the International Student Program at 2507032904 or exchanges@sd71.bc.ca for more information or visit Comox Valley School District Exchange Program.  Available Exchange Destinations for the 2016-17 school year include: AUSTRIA\, DENMARK\, GERMANY\, JAPAN\, SPAIN\, THAILAND \nPrevious Comox Valley School District Exchange Students\n“This exchange program is a once in a lifetime experience that opens your eyes to the world\, and also brings a deeper send of self\, and brings you closer with those you love. It is absolutely a must do for anyone who seeks to improve themselves\, and it will absolutely change your life for the better! Hope to see you abroad sometime!!  \nKyle – Sendai\, Japan \n“I could not have asked for a better host family.  They make me feel so at home.  Being an exchange student when you are young teaches you so many things about yourself and changes the way you relate to the world and others.  Also going abroad and learning bout the history of different places teaches you so manythings you could not learn by sitting in class. The stories are no longer pictrues in a history textbook but tangible memories I will remember for life.  Everyday is a new adventure and I cannot wait to see what the rest of the year has in store!  \nMadison – Madrid\, Spain \n“I have seen so many amazing places\, like Paris\, Berlin\, Rome\, Florence\, Munich and Vienna.  Places I have only read about and they have been one fo the highlights of this experience. The people I have met are another thing that made this trip so great.  I have made some great friends here and will be keeping in touch wwith them when I return to Canada.  \nMerrick – Innsbruck\, Austria \n 
URL:https://studyinbritishcolumbia.com/event/exchange-program/
LOCATION:Comox Valley School District Board Office\, 607 Cumberland Road\, Courtenay\, British Columbia\, V9N7G5\, Canada
ORGANIZER;CN="Comox Valley School District Exchange Program":MAILTO:exchanges@sd71.bc.ca
END:VEVENT
END:VCALENDAR