BEGIN:VCALENDAR
VERSION:2.0
PRODID:-//Comox Valley International Student Program - ECPv6.15.20//NONSGML v1.0//EN
CALSCALE:GREGORIAN
METHOD:PUBLISH
X-WR-CALNAME:Comox Valley International Student Program
X-ORIGINAL-URL:https://studyinbritishcolumbia.com
X-WR-CALDESC:Events for Comox Valley International Student Program
REFRESH-INTERVAL;VALUE=DURATION:PT1H
X-Robots-Tag:noindex
X-PUBLISHED-TTL:PT1H
BEGIN:VTIMEZONE
TZID:America/Vancouver
BEGIN:DAYLIGHT
TZOFFSETFROM:-0800
TZOFFSETTO:-0700
TZNAME:PDT
DTSTART:20150308T100000
END:DAYLIGHT
BEGIN:STANDARD
TZOFFSETFROM:-0700
TZOFFSETTO:-0800
TZNAME:PST
DTSTART:20151101T090000
END:STANDARD
BEGIN:DAYLIGHT
TZOFFSETFROM:-0800
TZOFFSETTO:-0700
TZNAME:PDT
DTSTART:20160313T100000
END:DAYLIGHT
BEGIN:STANDARD
TZOFFSETFROM:-0700
TZOFFSETTO:-0800
TZNAME:PST
DTSTART:20161106T090000
END:STANDARD
BEGIN:DAYLIGHT
TZOFFSETFROM:-0800
TZOFFSETTO:-0700
TZNAME:PDT
DTSTART:20170312T100000
END:DAYLIGHT
BEGIN:STANDARD
TZOFFSETFROM:-0700
TZOFFSETTO:-0800
TZNAME:PST
DTSTART:20171105T090000
END:STANDARD
END:VTIMEZONE
BEGIN:VEVENT
DTSTART;VALUE=DATE:20160302
DTEND;VALUE=DATE:20160303
DTSTAMP:20260419T182849
CREATED:20151005T222659Z
LAST-MODIFIED:20160210T154109Z
UID:4236-1456876800-1456963199@studyinbritishcolumbia.com
SUMMARY:PLC Day – Victoria Trip
DESCRIPTION:
URL:https://studyinbritishcolumbia.com/event/plc-day-mt-washington-snowshoeing-ozone-tube-park/
END:VEVENT
BEGIN:VEVENT
DTSTART;TZID=America/Vancouver:20160316T093000
DTEND;TZID=America/Vancouver:20160316T160000
DTSTAMP:20260419T182849
CREATED:20151005T222855Z
LAST-MODIFIED:20160307T120341Z
UID:4237-1458120600-1458144000@studyinbritishcolumbia.com
SUMMARY:PLC Day – Nanaimo Woodgrove Centre
DESCRIPTION:Wednesday\, March 16th is a PLC day! \nIf you are looking for something to do for the day\, I will be taking a bus of International Secondary Students to the Woodgrove Centre in Nanaimo for a day of shopping. \nPlease see link below of what stores are offered at the Mall \nhttp://www.woodgrovecentre.com/stores/interactive-map \nCome explore over 150 stores\, Get some shopping done Or check out what is playing at the theatre when we are there! \nWe would leave from the parking lot beside Ricki’s Restaurant on Wednesday\, March 16th  at 9:30am and will be returning by 4:00pm. \nThere is no charge for this trip\, just email me at suella.price@sd71.bc.ca and let me know that you would like to go and I will confirm back with you.
URL:https://studyinbritishcolumbia.com/event/plc-day-nanaimo-woodgrove-centre/
END:VEVENT
BEGIN:VEVENT
DTSTART;VALUE=DATE:20160321
DTEND;VALUE=DATE:20160402
DTSTAMP:20260419T182849
CREATED:20151008T163228Z
LAST-MODIFIED:20160215T203521Z
UID:4284-1458518400-1459555199@studyinbritishcolumbia.com
SUMMARY:Spring Break
DESCRIPTION:
URL:https://studyinbritishcolumbia.com/event/spring-break/
END:VEVENT
BEGIN:VEVENT
DTSTART;VALUE=DATE:20160325
DTEND;VALUE=DATE:20160326
DTSTAMP:20260419T182849
CREATED:20151008T163344Z
LAST-MODIFIED:20160304T175349Z
UID:4285-1458864000-1458950399@studyinbritishcolumbia.com
SUMMARY:Good Friday
DESCRIPTION:
URL:https://studyinbritishcolumbia.com/event/good-friday/
END:VEVENT
BEGIN:VEVENT
DTSTART;VALUE=DATE:20160328
DTEND;VALUE=DATE:20160329
DTSTAMP:20260419T182849
CREATED:20151008T163420Z
LAST-MODIFIED:20160304T175601Z
UID:4286-1459123200-1459209599@studyinbritishcolumbia.com
SUMMARY:Easter Monday
DESCRIPTION:
URL:https://studyinbritishcolumbia.com/event/easter-monday/
END:VEVENT
END:VCALENDAR