BEGIN:VCALENDAR
VERSION:2.0
PRODID:-//Comox Valley International Student Program - ECPv6.15.20//NONSGML v1.0//EN
CALSCALE:GREGORIAN
METHOD:PUBLISH
X-WR-CALNAME:Comox Valley International Student Program
X-ORIGINAL-URL:https://studyinbritishcolumbia.com
X-WR-CALDESC:Events for Comox Valley International Student Program
REFRESH-INTERVAL;VALUE=DURATION:PT1H
X-Robots-Tag:noindex
X-PUBLISHED-TTL:PT1H
BEGIN:VTIMEZONE
TZID:America/Vancouver
BEGIN:DAYLIGHT
TZOFFSETFROM:-0800
TZOFFSETTO:-0700
TZNAME:PDT
DTSTART:20150308T100000
END:DAYLIGHT
BEGIN:STANDARD
TZOFFSETFROM:-0700
TZOFFSETTO:-0800
TZNAME:PST
DTSTART:20151101T090000
END:STANDARD
BEGIN:DAYLIGHT
TZOFFSETFROM:-0800
TZOFFSETTO:-0700
TZNAME:PDT
DTSTART:20160313T100000
END:DAYLIGHT
BEGIN:STANDARD
TZOFFSETFROM:-0700
TZOFFSETTO:-0800
TZNAME:PST
DTSTART:20161106T090000
END:STANDARD
BEGIN:DAYLIGHT
TZOFFSETFROM:-0800
TZOFFSETTO:-0700
TZNAME:PDT
DTSTART:20170312T100000
END:DAYLIGHT
BEGIN:STANDARD
TZOFFSETFROM:-0700
TZOFFSETTO:-0800
TZNAME:PST
DTSTART:20171105T090000
END:STANDARD
END:VTIMEZONE
BEGIN:VEVENT
DTSTART;TZID=America/Vancouver:20160506T100000
DTEND;TZID=America/Vancouver:20160506T143000
DTSTAMP:20260419T214153
CREATED:20160215T203352Z
LAST-MODIFIED:20160421T152321Z
UID:4832-1462528800-1462545000@studyinbritishcolumbia.com
SUMMARY:Deep Bay Marine Field Station Field Trip
DESCRIPTION:Deep Bay Marine Station – Friday May 6th\, 2016\nThe Comox Valley International Student Program will be going on a field trip to Deep Bay Marine Station. You can check out their website: Deep Bay Marine Station\, we will do some Exploring!! We will have a Station Tour with hands on with Sea life\, lunch provided\, Intertidal Exploration on the Beach. \nWe will be leaving Courtenay from Ricki’s Restaurant Parking Lot at 10:00 am and will be returning to the same location at 2:30 pm. \nCOST: $15.00 – please pay and register with your ISP Teacher at school on starting on Monday\, April 18th. You can also pay at the ISP Office at Lake Trail Middle School. You can also pay by credit card\, by completing the credit card form and returning it to suella.price@sd71.bc.ca. \nAlso please note: Please fill out the Deep Bay Marine Station Medical Information Form and email to me or give to your ISP Teacher at School. These will need to be sent in by Monday\, April 25th. \nWe will also be looking for Two more additional Chaperones to Join us for this trip. Homestay\, if you are interested please let me know. \nI look forward to our Trip! It should be a lot of fun!
URL:https://studyinbritishcolumbia.com/event/deep-bay-marine-field-station-field-trip/
LOCATION:Deep Bay Marine Field Station\, 370 Crome Point Road\, Bowser\, British Columbia\, V0R 1G0\, Canada
END:VEVENT
BEGIN:VEVENT
DTSTART;VALUE=DATE:20160511
DTEND;VALUE=DATE:20160512
DTSTAMP:20260419T214153
CREATED:20151005T223018Z
LAST-MODIFIED:20160404T172540Z
UID:4240-1462924800-1463011199@studyinbritishcolumbia.com
SUMMARY:PLC Day
DESCRIPTION:
URL:https://studyinbritishcolumbia.com/event/plc-day-deep-bay-marine-field-station/
END:VEVENT
BEGIN:VEVENT
DTSTART;TZID=America/Vancouver:20160518T170000
DTEND;TZID=America/Vancouver:20160518T190000
DTSTAMP:20260419T214153
CREATED:20160413T172652Z
LAST-MODIFIED:20160415T171231Z
UID:5041-1463590800-1463598000@studyinbritishcolumbia.com
SUMMARY:Graduation Dinner 2016
DESCRIPTION:The Comox Valley International Student Program Grad Dinner 2016 is expanding this year. Graduating students are are invited for a evening of celebration. You worked hard to graduate so lets have a dinner and some fun! \nRSVP by calling the CVISP office at 250-703-2904 or email suella.price@sd71.bc.ca.
URL:https://studyinbritishcolumbia.com/event/graduation-dinner-2016/
LOCATION:Crown Isle Resort\, 399 Clubhouse Drive\, Courtenay\, British Columbia\, Canada
ATTACH;FMTTYPE=image/jpeg:https://studyinbritishcolumbia.com/wp-content/uploads/2016/04/21.jpg
END:VEVENT
BEGIN:VEVENT
DTSTART;VALUE=DATE:20160520
DTEND;VALUE=DATE:20160521
DTSTAMP:20260419T214153
CREATED:20160115T234034Z
LAST-MODIFIED:20160404T172638Z
UID:4798-1463702400-1463788799@studyinbritishcolumbia.com
SUMMARY:Pro-D Day (No Classes)
DESCRIPTION:Non instructional day.  Professional development for teachers.
URL:https://studyinbritishcolumbia.com/event/pro-d-day-no-classes-2/
END:VEVENT
BEGIN:VEVENT
DTSTART;VALUE=DATE:20160523
DTEND;VALUE=DATE:20160524
DTSTAMP:20260419T214153
CREATED:20151008T165630Z
LAST-MODIFIED:20160414T204916Z
UID:4290-1463961600-1464047999@studyinbritishcolumbia.com
SUMMARY:Victoria Day (Holiday)
DESCRIPTION:
URL:https://studyinbritishcolumbia.com/event/victoria-day-holiday/
ATTACH;FMTTYPE=image/png:https://studyinbritishcolumbia.com/wp-content/uploads/2015/10/BC-logo.png
END:VEVENT
BEGIN:VEVENT
DTSTART;TZID=America/Vancouver:20160526T080000
DTEND;TZID=America/Vancouver:20160527T200000
DTSTAMP:20260419T214153
CREATED:20160215T202932Z
LAST-MODIFIED:20160215T203015Z
UID:4829-1464249600-1464379200@studyinbritishcolumbia.com
SUMMARY:Tofino Surfing Overnight Trip
DESCRIPTION:
URL:https://studyinbritishcolumbia.com/event/tofino-surfing-overnight-trip/
ATTACH;FMTTYPE=image/jpeg:https://studyinbritishcolumbia.com/wp-content/uploads/2015/07/TofinoTrip011.jpg
END:VEVENT
END:VCALENDAR