BEGIN:VCALENDAR
VERSION:2.0
PRODID:-//Comox Valley International Student Program - ECPv6.15.20//NONSGML v1.0//EN
CALSCALE:GREGORIAN
METHOD:PUBLISH
X-ORIGINAL-URL:https://studyinbritishcolumbia.com
X-WR-CALDESC:Events for Comox Valley International Student Program
REFRESH-INTERVAL;VALUE=DURATION:PT1H
X-Robots-Tag:noindex
X-PUBLISHED-TTL:PT1H
BEGIN:VTIMEZONE
TZID:America/Vancouver
BEGIN:DAYLIGHT
TZOFFSETFROM:-0800
TZOFFSETTO:-0700
TZNAME:PDT
DTSTART:20150308T100000
END:DAYLIGHT
BEGIN:STANDARD
TZOFFSETFROM:-0700
TZOFFSETTO:-0800
TZNAME:PST
DTSTART:20151101T090000
END:STANDARD
BEGIN:DAYLIGHT
TZOFFSETFROM:-0800
TZOFFSETTO:-0700
TZNAME:PDT
DTSTART:20160313T100000
END:DAYLIGHT
BEGIN:STANDARD
TZOFFSETFROM:-0700
TZOFFSETTO:-0800
TZNAME:PST
DTSTART:20161106T090000
END:STANDARD
BEGIN:DAYLIGHT
TZOFFSETFROM:-0800
TZOFFSETTO:-0700
TZNAME:PDT
DTSTART:20170312T100000
END:DAYLIGHT
BEGIN:STANDARD
TZOFFSETFROM:-0700
TZOFFSETTO:-0800
TZNAME:PST
DTSTART:20171105T090000
END:STANDARD
END:VTIMEZONE
BEGIN:VEVENT
DTSTART;VALUE=DATE:20160601
DTEND;VALUE=DATE:20160602
DTSTAMP:20260419T230201
CREATED:20151008T171946Z
LAST-MODIFIED:20151008T171946Z
UID:4291-1464739200-1464825599@studyinbritishcolumbia.com
SUMMARY:PLC Day (early dismissal)
DESCRIPTION:
URL:https://studyinbritishcolumbia.com/event/plc-day-early-dismissal-8/
END:VEVENT
BEGIN:VEVENT
DTSTART;VALUE=DATE:20160601
DTEND;VALUE=DATE:20160602
DTSTAMP:20260419T230201
CREATED:20160215T203234Z
LAST-MODIFIED:20160215T203234Z
UID:4831-1464739200-1464825599@studyinbritishcolumbia.com
SUMMARY:Hornby Island Hiking\, Helliwell Park & Tribune Bay Beach
DESCRIPTION:
URL:https://studyinbritishcolumbia.com/event/hornby-island-hiking-helliwell-park-tribune-bay-beach/
END:VEVENT
BEGIN:VEVENT
DTSTART;VALUE=DATE:20160621
DTEND;VALUE=DATE:20160622
DTSTAMP:20260419T230201
CREATED:20151008T172009Z
LAST-MODIFIED:20151008T172009Z
UID:4292-1466467200-1466553599@studyinbritishcolumbia.com
SUMMARY:Last day of classes
DESCRIPTION:
URL:https://studyinbritishcolumbia.com/event/last-day-of-classes/
END:VEVENT
BEGIN:VEVENT
DTSTART;VALUE=DATE:20160622
DTEND;VALUE=DATE:20160629
DTSTAMP:20260419T230201
CREATED:20151008T172048Z
LAST-MODIFIED:20151008T172048Z
UID:4293-1466553600-1467158399@studyinbritishcolumbia.com
SUMMARY:Final Assessments
DESCRIPTION:
URL:https://studyinbritishcolumbia.com/event/final-assessments/
END:VEVENT
BEGIN:VEVENT
DTSTART;VALUE=DATE:20160630
DTEND;VALUE=DATE:20160701
DTSTAMP:20260419T230201
CREATED:20151008T172217Z
LAST-MODIFIED:20151008T172217Z
UID:4294-1467244800-1467331199@studyinbritishcolumbia.com
SUMMARY:Administrative day
DESCRIPTION:
URL:https://studyinbritishcolumbia.com/event/administrative-day/
END:VEVENT
END:VCALENDAR